BEGIN:VCALENDAR
VERSION:2.0
PRODID:-//wp-events-plugin.com//7.2.3.1//EN
BEGIN:VEVENT
UID:17@postalhistory.org.uk
DTSTART:20240506T141500Z
DTEND:20240506T163000Z
DTSTAMP:20240201T184154Z
URL:https://www.postalhistory.org.uk/events/zoom-meeting-may-2024/
SUMMARY:Zoom Meeting\, convenor Marc Oxley
DESCRIPTION:
END:VEVENT
END:VCALENDAR