BEGIN:VCALENDAR
VERSION:2.0
PRODID:-//wp-events-plugin.com//7.2.3.1//EN
BEGIN:VEVENT
UID:26@postalhistory.org.uk
DTSTART:20241105T191500Z
DTEND:20241105T213000Z
DTSTAMP:20240412T090133Z
URL:https://www.postalhistory.org.uk/events/zoom-meeting-convenor-marc-oxl
 ey-4/
SUMMARY:Zoom Meeting\, convenor Marc Oxley
DESCRIPTION:
END:VEVENT
END:VCALENDAR