BEGIN:VCALENDAR
VERSION:2.0
PRODID:-//wp-events-plugin.com//7.2.3.1//EN
BEGIN:VEVENT
UID:25@postalhistory.org.uk
DTSTART:20241007T141500Z
DTEND:20241007T163000Z
DTSTAMP:20240412T090038Z
URL:https://www.postalhistory.org.uk/events/zoom-meeting-convenor-marc-oxl
 ey-3/
SUMMARY:Zoom Meeting\, convenor Marc Oxley
DESCRIPTION:
END:VEVENT
END:VCALENDAR