BEGIN:VCALENDAR
VERSION:2.0
PRODID:-//wp-events-plugin.com//7.2.3.1//EN
BEGIN:VEVENT
UID:39@postalhistory.org.uk
DTSTART:20251201T141500Z
DTEND:20251201T163000Z
DTSTAMP:20250528T214111Z
URL:https://www.postalhistory.org.uk/events/zoom-meeting-convenor-marc-oxl
 ey-16/
SUMMARY:PHS Zoom Meeting\, convenor Marc Oxley
DESCRIPTION:
END:VEVENT
END:VCALENDAR