BEGIN:VCALENDAR
VERSION:2.0
PRODID:-//wp-events-plugin.com//7.2.3.1//EN
BEGIN:VEVENT
UID:34@postalhistory.org.uk
DTSTART:20250602T141500Z
DTEND:20250602T163000Z
DTSTAMP:20250528T214450Z
URL:https://www.postalhistory.org.uk/events/zoom-meeting-convenor-marc-oxl
 ey-11/
SUMMARY:PHS Zoom Meeting\, convenor Marc Oxley
DESCRIPTION:
END:VEVENT
END:VCALENDAR