BEGIN:VCALENDAR
VERSION:2.0
PRODID:-//wp-events-plugin.com//7.2.3.1//EN
BEGIN:VEVENT
UID:33@postalhistory.org.uk
DTSTART:20250514T141500Z
DTEND:20250514T163000Z
DTSTAMP:20241124T151705Z
URL:https://www.postalhistory.org.uk/events/zoom-meeting-convenor-marc-oxl
 ey-10/
SUMMARY:Zoom Meeting Wednesday 14th May\, convenor Marc Oxley
DESCRIPTION:We have moved the May Zoom meeting to to the second Wednesday t
 o avoid clashing with Europhilex.
END:VEVENT
END:VCALENDAR