BEGIN:VCALENDAR
VERSION:2.0
PRODID:-//wp-events-plugin.com//7.2.3.1//EN
BEGIN:VEVENT
UID:16@postalhistory.org.uk
DTSTART:20240402T191500Z
DTEND:20240402T213000Z
DTSTAMP:20240201T184044Z
URL:https://www.postalhistory.org.uk/events/zoom-meeting-april-2024/
SUMMARY:Zoom Meeting\, convenor Marc Oxley
DESCRIPTION:
END:VEVENT
END:VCALENDAR