BEGIN:VCALENDAR
VERSION:2.0
PRODID:-//wp-events-plugin.com//7.2.3.1//EN
BEGIN:VEVENT
UID:3@postalhistory.org.uk
DTSTART:20230701T100000Z
DTEND:20230701T160000Z
DTSTAMP:20230129T162217Z
URL:https://www.postalhistory.org.uk/events/stand-at-midpex/
SUMMARY:Stand at MIDPEX
DESCRIPTION:
LOCATION:Warwickshire Exhibition Centre\, Fosse Way\, Leamington Spa\, CV31
  1XN\, United Kingdom
X-APPLE-STRUCTURED-LOCATION;VALUE=URI;X-ADDRESS=Fosse Way\, Leamington Spa\
 , CV31 1XN\, United Kingdom;X-APPLE-RADIUS=100;X-TITLE=Warwickshire Exhibi
 tion Centre:geo:0,0
END:VEVENT
END:VCALENDAR