BEGIN:VCALENDAR
VERSION:2.0
PRODID:-//wp-events-plugin.com//7.2.3.1//EN
BEGIN:VEVENT
UID:7@postalhistory.org.uk
DTSTART;VALUE=DATE:20230927
DTEND;VALUE=DATE:20231001
DTSTAMP:20230129T170946Z
URL:https://www.postalhistory.org.uk/events/stampex/
SUMMARY:STAMPEX
DESCRIPTION:
LOCATION:The Business Design Centre\, Islington Green\, London\, N1 0QH\, U
 nited Kingdom
X-APPLE-STRUCTURED-LOCATION;VALUE=URI;X-ADDRESS=Islington Green\, London\, 
 N1 0QH\, United Kingdom;X-APPLE-RADIUS=100;X-TITLE=The Business Design Cen
 tre:geo:0,0
END:VEVENT
END:VCALENDAR