BEGIN:VCALENDAR
VERSION:2.0
PRODID:-//wp-events-plugin.com//7.2.3.1//EN
BEGIN:VEVENT
UID:4@postalhistory.org.uk
DTSTART;VALUE=DATE:20230821
DTEND;VALUE=DATE:20230822
DTSTAMP:20230129T163600Z
URL:https://www.postalhistory.org.uk/events/society-meeting/
SUMMARY:Society Meeting
DESCRIPTION:
LOCATION:Blandford Forum\,  \,  \, United Kingdom
X-APPLE-STRUCTURED-LOCATION;VALUE=URI;X-ADDRESS= \,  \, United Kingdom;X-AP
 PLE-RADIUS=100;X-TITLE=Blandford Forum:geo:0,0
END:VEVENT
END:VCALENDAR