BEGIN:VCALENDAR
VERSION:2.0
PRODID:-//wp-events-plugin.com//7.2.3.1//EN
BEGIN:VEVENT
UID:5@postalhistory.org.uk
DTSTART;VALUE=DATE:20231103
DTEND;VALUE=DATE:20231106
DTSTAMP:20231030T164609Z
URL:https://www.postalhistory.org.uk/events/society-conference/
SUMMARY:Society Conference
DESCRIPTION:&nbsp\;\n\nDownload the Salisbury Conference Programme here: [d
 ownload id="5560"]\n\nDownload the Conference information document here: [
 download id="5418"]
LOCATION:Salisbury\,  \, Salisbury\, United Kingdom
X-APPLE-STRUCTURED-LOCATION;VALUE=URI;X-ADDRESS= \, Salisbury\, United King
 dom;X-APPLE-RADIUS=100;X-TITLE=Salisbury:geo:0,0
END:VEVENT
END:VCALENDAR