BEGIN:VCALENDAR
VERSION:2.0
PRODID:-//wp-events-plugin.com//7.2.3.1//EN
BEGIN:VEVENT
UID:43@postalhistory.org.uk
DTSTART;VALUE=DATE:20250705
DTEND;VALUE=DATE:20250706
DTSTAMP:20250528T215125Z
URL:https://www.postalhistory.org.uk/events/midpex-2025-leamington-spa/
SUMMARY:PHS at Midpex 2025 Leamington Spa\, convenor Marc Oxley
DESCRIPTION:We will have a stall at Midpex 2025 at the Warwickshire Event C
 entre\, Leamington Spa\, CV31 1XN. 5th July 2025 10:00am – 4pm
END:VEVENT
END:VCALENDAR