BEGIN:VCALENDAR
VERSION:2.0
PRODID:-//wp-events-plugin.com//7.2.3.1//EN
BEGIN:VEVENT
UID:1@postalhistory.org.uk
DTSTART;VALUE=DATE:20230318
DTEND;VALUE=DATE:20230319
DTSTAMP:20230129T162930Z
URL:https://www.postalhistory.org.uk/events/joint-meeting-with-the-mphs/
SUMMARY:Joint meeting with the MPHS
DESCRIPTION:
LOCATION:Derby\,  \, Derby\, United Kingdom
X-APPLE-STRUCTURED-LOCATION;VALUE=URI;X-ADDRESS= \, Derby\, United Kingdom;
 X-APPLE-RADIUS=100;X-TITLE=Derby:geo:0,0
END:VEVENT
END:VCALENDAR