BEGIN:VCALENDAR
VERSION:2.0
PRODID:-//wp-events-plugin.com//7.2.3.1//EN
BEGIN:VEVENT
UID:2@postalhistory.org.uk
DTSTART;VALUE=DATE:20230603
DTEND;VALUE=DATE:20230604
DTSTAMP:20230129T160427Z
URL:https://www.postalhistory.org.uk/events/joint-meeting-with-the-forces-
 postal-history-society/
SUMMARY:Joint meeting with the Forces Postal History Society
DESCRIPTION:
LOCATION:Hinckley\,  \,  \, United Kingdom
X-APPLE-STRUCTURED-LOCATION;VALUE=URI;X-ADDRESS= \,  \, United Kingdom;X-AP
 PLE-RADIUS=100;X-TITLE=Hinckley:geo:0,0
END:VEVENT
END:VCALENDAR