BEGIN:VCALENDAR
VERSION:2.0
PRODID:-//wp-events-plugin.com//7.2.3.1//EN
BEGIN:VEVENT
UID:20@postalhistory.org.uk
DTSTART;VALUE=DATE:20240718
DTEND;VALUE=DATE:20240719
DTSTAMP:20240201T184458Z
URL:https://www.postalhistory.org.uk/events/joint-meeting-with-rpsl-2024/
SUMMARY:Joint meeting with RPSL at York
DESCRIPTION:
END:VEVENT
END:VCALENDAR