BEGIN:VCALENDAR
VERSION:2.0
PRODID:-//wp-events-plugin.com//7.2.3.1//EN
BEGIN:VEVENT
UID:15@postalhistory.org.uk
DTSTART:20240316T100000Z
DTEND:20240316T140000Z
DTSTAMP:20240225T163933Z
URL:https://www.postalhistory.org.uk/events/joint-meeting-mphs/
SUMMARY:Joint meeting with MPHS at Cavendish\, Derby\, convenor Greg Spring
DESCRIPTION:Our joint meeting with the Midland Postal History Society is on
  16th March at Cavendish Auction Rooms 153-157 London Road Derby DE1 2SY.\
 n\n10.00am for 10.30am start\n\n2 minutes walk from Derby Station.\n\nAll 
 Members are welcome.\n\nIt would help us to know in advance if you are pla
 nning to attend.\n\nFor more details please contact greg@cavendishauctions
 .com
END:VEVENT
END:VCALENDAR