BEGIN:VCALENDAR
VERSION:2.0
PRODID:-//wp-events-plugin.com//7.2.3.1//EN
BEGIN:VEVENT
UID:41@postalhistory.org.uk
DTSTART:20250717T000000Z
DTEND:20250717T000000Z
DTSTAMP:20250528T213809Z
URL:https://www.postalhistory.org.uk/events/joint-meeting-in-york-with-the
 -rpsl/
SUMMARY:Joint Meeting in York of the PHS with the RPSL
DESCRIPTION:Our joint meeting with the RPSL at the Marriott Hotel in York i
 s scheduled for Thursday 17th July.\n\nDetails will be sent out when we kn
 ow more
LOCATION:Delta Hotels by Marriott York\, Tadcaster Road\, York\, YO24 1QQ\,
  United Kingdom
X-APPLE-STRUCTURED-LOCATION;VALUE=URI;X-ADDRESS=Tadcaster Road\, York\, YO2
 4 1QQ\, United Kingdom;X-APPLE-RADIUS=100;X-TITLE=Delta Hotels by Marriott
  York:geo:0,0
END:VEVENT
END:VCALENDAR