BEGIN:VCALENDAR
VERSION:2.0
PRODID:-//wp-events-plugin.com//7.2.3.1//EN
BEGIN:VEVENT
UID:40@postalhistory.org.uk
DTSTART;VALUE=DATE:20250508
DTEND;VALUE=DATE:20250509
DTSTAMP:20241120T153503Z
URL:https://www.postalhistory.org.uk/events/europhilex-members-day/
SUMMARY:Europhilex Members day\, convenor Marc Oxley
DESCRIPTION:Come and meet us at the Members day at Europhilex in Birmingham
  on Thursday 8th May
END:VEVENT
END:VCALENDAR