BEGIN:VCALENDAR
VERSION:2.0
PRODID:-//wp-events-plugin.com//7.2.3.1//EN
BEGIN:VEVENT
UID:18@postalhistory.org.uk
DTSTART;VALUE=DATE:20240515
DTEND;VALUE=DATE:20240516
DTSTAMP:20240201T184245Z
URL:https://www.postalhistory.org.uk/events/country-meeting-salisbury-2024
 /
SUMMARY:Country meeting\, Harnum Scout Hut\, Salisbury\, convenor Claire Sc
 ott
DESCRIPTION:
END:VEVENT
END:VCALENDAR