BEGIN:VCALENDAR
VERSION:2.0
PRODID:-//wp-events-plugin.com//7.2.3.1//EN
BEGIN:VEVENT
UID:21@postalhistory.org.uk
DTSTART:20240917T100000Z
DTEND:20240917T160000Z
DTSTAMP:20240606T164644Z
URL:https://www.postalhistory.org.uk/events/country-meeting-bath/
SUMMARY:Country Meeting\, Limpley Stoke near Bath\, Avon
DESCRIPTION:Logged in members may complete the booking form for this meetin
 g.
LOCATION:Limpley Stoke Hotel\, Lower Limpley Stoke\, Bath\, Avon\, BA2 7FZ\
 , United Kingdom
X-APPLE-STRUCTURED-LOCATION;VALUE=URI;X-ADDRESS=Lower Limpley Stoke\, Bath\
 , Avon\, BA2 7FZ\, United Kingdom;X-APPLE-RADIUS=100;X-TITLE=Limpley Stoke
  Hotel:geo:0,0
END:VEVENT
END:VCALENDAR