BEGIN:VCALENDAR
VERSION:2.0
PRODID:-//wp-events-plugin.com//7.2.3.1//EN
BEGIN:VEVENT
UID:42@postalhistory.org.uk
DTSTART:20251003T000000Z
DTEND:20251005T000000Z
DTSTAMP:20250809T102830Z
URL:https://www.postalhistory.org.uk/events/conference-at-the-imperial-hot
 el-torquay-october-2025/
SUMMARY:PHS Conference at The Imperial Hotel Torquay October 2025
DESCRIPTION:2025 Conference will be held at The Imperial Hotel Torquay Frid
 ay 3rd - Sunday 5th October. Sunday is a joint meeting with the RPSL (Sout
 h West) which will be taking place after our AGM. Full details now availab
 le in the members area\, including the booking form.
LOCATION:The Imperial Hotel\, Parkhill Road\, Torquay\, TQ1 2DG\, United Ki
 ngdom
X-APPLE-STRUCTURED-LOCATION;VALUE=URI;X-ADDRESS=Parkhill Road\, Torquay\, T
 Q1 2DG\, United Kingdom;X-APPLE-RADIUS=100;X-TITLE=The Imperial Hotel:geo:
 0,0
END:VEVENT
END:VCALENDAR