BEGIN:VCALENDAR
VERSION:2.0
PRODID:-//wp-events-plugin.com//7.2.3.1//EN
BEGIN:VEVENT
UID:22@postalhistory.org.uk
DTSTART;VALUE=DATE:20241018
DTEND;VALUE=DATE:20241021
DTSTAMP:20240606T130035Z
URL:https://www.postalhistory.org.uk/events/annual-conference-2024/
SUMMARY:Annual Conference\, Redditch
DESCRIPTION:Logged in members may complete a booking form for the Conferenc
 e.
LOCATION:Abbey Hotel\, Hither Green Lane\, Dagnell End Road\, Redditch\, Wo
 rcestershire\, B98 9BE\, United Kingdom
X-APPLE-STRUCTURED-LOCATION;VALUE=URI;X-ADDRESS=Hither Green Lane\, Dagnell
  End Road\, Redditch\, Worcestershire\, B98 9BE\, United Kingdom;X-APPLE-R
 ADIUS=100;X-TITLE=Abbey Hotel:geo:0,0
END:VEVENT
END:VCALENDAR